BEGIN:VCALENDAR
VERSION:2.0
PRODID:-//Passionate Commitment - ECPv6.15.20//NONSGML v1.0//EN
CALSCALE:GREGORIAN
METHOD:PUBLISH
X-ORIGINAL-URL:https://passionatecommitment.com
X-WR-CALDESC:Events for Passionate Commitment
REFRESH-INTERVAL;VALUE=DURATION:PT1H
X-Robots-Tag:noindex
X-PUBLISHED-TTL:PT1H
BEGIN:VTIMEZONE
TZID:America/Los_Angeles
BEGIN:DAYLIGHT
TZOFFSETFROM:-0800
TZOFFSETTO:-0700
TZNAME:PDT
DTSTART:20220313T100000
END:DAYLIGHT
BEGIN:STANDARD
TZOFFSETFROM:-0700
TZOFFSETTO:-0800
TZNAME:PST
DTSTART:20221106T090000
END:STANDARD
BEGIN:DAYLIGHT
TZOFFSETFROM:-0800
TZOFFSETTO:-0700
TZNAME:PDT
DTSTART:20230312T100000
END:DAYLIGHT
BEGIN:STANDARD
TZOFFSETFROM:-0700
TZOFFSETTO:-0800
TZNAME:PST
DTSTART:20231105T090000
END:STANDARD
BEGIN:DAYLIGHT
TZOFFSETFROM:-0800
TZOFFSETTO:-0700
TZNAME:PDT
DTSTART:20240310T100000
END:DAYLIGHT
BEGIN:STANDARD
TZOFFSETFROM:-0700
TZOFFSETTO:-0800
TZNAME:PST
DTSTART:20241103T090000
END:STANDARD
END:VTIMEZONE
BEGIN:VEVENT
DTSTART;VALUE=DATE:20230724
DTEND;VALUE=DATE:20230725
DTSTAMP:20260425T195202
CREATED:20230807T135433Z
LAST-MODIFIED:20230807T140230Z
UID:3941-1690156800-1690243199@passionatecommitment.com
SUMMARY:Heaven In Your Home: Mentorship
DESCRIPTION:The Penners offer both theologically sound and practical wisdom on sexuality\, pleasure\, desire and growing a thriving sex life throughout your marriage. In today’s conversation we talk about the importance of education\, communication\, creating a marvelous sex life\, intentionality and keeping your sex life alive through the seasons and stages of marriage\, healing and growing from shame\, and finding the sweet spot in your marriage to build connection and a thriving sex life.\n			\n			\n				\n				\n				\n				\n			\n				\n				\n				\n				\n				\n				\n				Listen to Episode
URL:https://passionatecommitment.com/event/heaven-in-your-home-mentorship/
LOCATION:TN
CATEGORIES:Speaking Schedule
END:VEVENT
BEGIN:VEVENT
DTSTART;VALUE=DATE:20230728
DTEND;VALUE=DATE:20230729
DTSTAMP:20260425T195202
CREATED:20230726T015359Z
LAST-MODIFIED:20230807T142424Z
UID:3618-1690502400-1690588799@passionatecommitment.com
SUMMARY:Get Your Marriage On: Yes Dear\, Size Does Matter (If We’re Talking About Your Heart)
DESCRIPTION:July 28th\n			\n				\n				\n				\n				\n				\n			\n				Listen to Episode
URL:https://passionatecommitment.com/event/get-your-marriage-on-podcast-size-does-matter/
LOCATION:TN
CATEGORIES:Speaking Schedule
END:VEVENT
END:VCALENDAR