BEGIN:VCALENDAR
VERSION:2.0
PRODID:-//Passionate Commitment - ECPv6.15.20//NONSGML v1.0//EN
CALSCALE:GREGORIAN
METHOD:PUBLISH
X-WR-CALNAME:Passionate Commitment
X-ORIGINAL-URL:https://passionatecommitment.com
X-WR-CALDESC:Events for Passionate Commitment
REFRESH-INTERVAL;VALUE=DURATION:PT1H
X-Robots-Tag:noindex
X-PUBLISHED-TTL:PT1H
BEGIN:VTIMEZONE
TZID:America/Los_Angeles
BEGIN:DAYLIGHT
TZOFFSETFROM:-0800
TZOFFSETTO:-0700
TZNAME:PDT
DTSTART:20220313T100000
END:DAYLIGHT
BEGIN:STANDARD
TZOFFSETFROM:-0700
TZOFFSETTO:-0800
TZNAME:PST
DTSTART:20221106T090000
END:STANDARD
BEGIN:DAYLIGHT
TZOFFSETFROM:-0800
TZOFFSETTO:-0700
TZNAME:PDT
DTSTART:20230312T100000
END:DAYLIGHT
BEGIN:STANDARD
TZOFFSETFROM:-0700
TZOFFSETTO:-0800
TZNAME:PST
DTSTART:20231105T090000
END:STANDARD
BEGIN:DAYLIGHT
TZOFFSETFROM:-0800
TZOFFSETTO:-0700
TZNAME:PDT
DTSTART:20240310T100000
END:DAYLIGHT
BEGIN:STANDARD
TZOFFSETFROM:-0700
TZOFFSETTO:-0800
TZNAME:PST
DTSTART:20241103T090000
END:STANDARD
END:VTIMEZONE
BEGIN:VEVENT
DTSTART;VALUE=DATE:20230801
DTEND;VALUE=DATE:20230802
DTSTAMP:20260425T180956
CREATED:20230807T083419Z
LAST-MODIFIED:20250127T075032Z
UID:3817-1690848000-1690934399@passionatecommitment.com
SUMMARY:Dear Young Married Couple: Getting Real About Sex
DESCRIPTION:Who says your sex life has to die when you retire\, go through menopause\, or when you reach a given age?  Dr. Cliff and Joyce Penner share insights into keeping your God-given sex life alive\, fun\, and adventurous.\n			\n			\n				\n				\n				\n				\n			\n				\n				\n				\n				\n				\n				\n				Listen to Episode
URL:https://passionatecommitment.com/event/getting-real-about-sex/
LOCATION:TN
CATEGORIES:Speaking Schedule
END:VEVENT
BEGIN:VEVENT
DTSTART;TZID=America/Los_Angeles:20230818T090000
DTEND;TZID=America/Los_Angeles:20230818T140000
DTSTAMP:20260425T180956
CREATED:20230803T204954Z
LAST-MODIFIED:20230804T000546Z
UID:3659-1692349200-1692367200@passionatecommitment.com
SUMMARY:The Penners & My Counselor: Increasing Effectiveness In Counseling For Sexual Disorders
DESCRIPTION:Don't Miss Out!\n					\n						 \n						Day(s) \n					\n						: \n					\n						 \n						Hour(s) \n					\n						: \n					\n						 \n						Minute(s) \n					\n						: \n					\n						 \n						Second(s) \n					\n				\n			\n			\n				\n				\n				\n				\n			\n				\n				\n				\n				\n				\n				\n				\n				\n				\n				\n				\n			\n			\n				\n				\n				\n				\n				\n				\n				\n				\n				\n				Sexual Retraining: An approach to Sexual Dysfunction and a tool for building passion in marriage using the Penners’ Restoring the Pleasure Sexual Retraining protocol.\nEmphasis will be placed on:\nEvaluation/Assessment Process\nSex Therapy/Retraining Process\nGoals and Excercises\nSexual Dysfunctions and Their Treatments\n			\n			\n				\n				\n				\n				\n			\n				\n				\n				\n				\n				\n				\n				SIGN UP HERE!\n			\n				\n				\n				\n				\n				Friday August 18\, 2023 from 9 a.m. – 2 p.m.  PDT; 10 – 3 MDT; 11-4 CDT; 12-5 EDT
URL:https://passionatecommitment.com/event/increasing-effectiveness-in-counseling-for-sexual-disorders/
LOCATION:TN
CATEGORIES:Speaking Schedule
END:VEVENT
END:VCALENDAR